BEGIN:VCALENDAR
VERSION:2.0
PRODID:-//PCUT.ee//Pärnu Kolledž//ET
CALSCALE:GREGORIAN
BEGIN:VEVENT
DTSTAMP:20260423T082446Z
DTSTART:20260429T070000Z
DTEND:20260429T083000Z
UID:C5FE14486983E192B8C172CC3DD420E443DB3307
DESCRIPTION:Ruum: 002 - Stuudio\n\n<table class='table table-sm'><tr><td>Õppejõud</td><td>Allar Tiigi</td></tr><tr><td>Ruum</td><td>002 - Stuudio</td></tr><tr><td>Maja</td><td>Muusikamaja</td></tr><tr><td>Algus</td><td>29.04.2026 10:00</td></tr><tr><td>Lõpp</td><td>29.04.2026 11:30</td></tr><tr><td>Grupid</td><td>MUHT3, MUHT4</td></tr><tr><td>Tegevus</td><td>Finale koosolek</td></tr></table>
LOCATION:Jakobsoni 14, Viljandi 71020
URL;VALUE=URI:https://tunniplaan.vka.ee/rooms/MM-002/calendar/?d=29.04.2026
SUMMARY:
END:VEVENT
BEGIN:VEVENT
DTSTAMP:20260416T105256Z
DTSTART:20260529T070000Z
DTEND:20260529T080000Z
UID:5D0A3470C1709F80A7315EFDBFB030CFE8B9DC81
DESCRIPTION:Ruum: 301 - Kammersaal\n\n<table class='table table-sm'><tr><td>Õppejõud</td><td>Allar Tiigi</td></tr><tr><td>Ruum</td><td>301 - Kammersaal</td></tr><tr><td>Maja</td><td>Muusikamaja</td></tr><tr><td>Algus</td><td>29.05.2026 10:00</td></tr><tr><td>Lõpp</td><td>29.05.2026 11:00</td></tr><tr><td>Grupid</td><td>MUHT4</td></tr><tr><td>Tegevus</td><td></td></tr></table>
LOCATION:Jakobsoni 14, Viljandi 71020
URL;VALUE=URI:https://tunniplaan.vka.ee/rooms/MM-301/calendar/?d=29.05.2026
SUMMARY:Lõpueksam (HT)
END:VEVENT
BEGIN:VEVENT
DTSTAMP:20260416T110124Z
DTSTART:20260529T080000Z
DTEND:20260529T140000Z
UID:70703B62E7E526E3708B2DC9B38837176C734EDB
DESCRIPTION:Ruum: 001 - Foonika\n\n<table class='table table-sm'><tr><td>Õppejõud</td><td>Allar Tiigi</td></tr><tr><td>Ruum</td><td>001 - Foonika</td></tr><tr><td>Maja</td><td>Muusikamaja</td></tr><tr><td>Algus</td><td>29.05.2026 11:00</td></tr><tr><td>Lõpp</td><td>29.05.2026 17:00</td></tr><tr><td>Grupid</td><td>MUHT4</td></tr><tr><td>Tegevus</td><td></td></tr></table>
LOCATION:Jakobsoni 14, Viljandi 71020
URL;VALUE=URI:https://tunniplaan.vka.ee/rooms/MM-001/calendar/?d=29.05.2026
SUMMARY:Lõpueksam (HT)
END:VEVENT
BEGIN:VEVENT
DTSTAMP:20251127T165217Z
DTSTART:20260614T100000Z
DTEND:20260614T120000Z
UID:DF52DBC80D0E08FA2760C82875FBD93DC0B01F99
DESCRIPTION:Ruum: 1 - Väljaspool TÜ VKA-t\n\n<table class='table table-sm'><tr><td>Õppejõud</td><td>Ott Karulin</td></tr><tr><td>Asukoht</td><td>Ugala</td></tr><tr><td>Algus</td><td>14.06.2026 13:00</td></tr><tr><td>Lõpp</td><td>14.06.2026 15:00</td></tr><tr><td>Grupid</td><td>MUHT4, MUSÕ4, MUPM4, MURM4, PTTSÕ4</td></tr><tr><td>Tegevus</td><td></td></tr></table>
LOCATION:
URL;VALUE=URI:https://tunniplaan.vka.ee/rooms/X-1/calendar/?d=14.06.2026
SUMMARY:Lõpuaktus
END:VEVENT
BEGIN:VEVENT
DTSTAMP:20260305T135714Z
DTSTART:20260617T140000Z
DTEND:20260617T205500Z
UID:AD94AF01012D42F4216D322B22FB3FEEE09650BC
DESCRIPTION:Ruum: 1 - Väljaspool TÜ VKA-t\n\n<table class='table table-sm'><tr><td>Õppejõud</td><td>Marko Mägi</td></tr><tr><td>Asukoht</td><td>Männiku Metsatalu</td></tr><tr><td>Algus</td><td>17.06.2026 17:00</td></tr><tr><td>Lõpp</td><td>17.06.2026 23:55</td></tr><tr><td>Grupid</td><td>MUHT1, MUHT2, MUHT3, MUHT4, MUKM1, MUKM2, MUPM1, MUPM2, MUPM3, MUPM4, MURM1, MURM2, MURM3, MURM4, MUSÕ1, MUSÕ2, MUSÕ3, MUSÕ4</td></tr><tr><td>Tegevus</td><td></td></tr></table>
LOCATION:
URL;VALUE=URI:https://tunniplaan.vka.ee/rooms/X-1/calendar/?d=17.06.2026
SUMMARY:Muusika õppekava üliõpilaste koosolek
END:VEVENT
END:VCALENDAR
