BEGIN:VCALENDAR
VERSION:2.0
PRODID:-//PCUT.ee//Pärnu Kolledž//ET
CALSCALE:GREGORIAN
BEGIN:VEVENT
DTSTAMP:20251029T091604Z
DTSTART:20260430T071500Z
DTEND:20260430T144500Z
UID:52BCA0F5D4A33EC56F1CFA631CF3EB55929CA0F3
DESCRIPTION:Ruum: 128 - Õpperuum\n\n<table class='table table-sm'><tr><td>Õppejõud</td><td>Mariliis Peterson</td></tr><tr><td>Ruum</td><td>128 - Õpperuum</td></tr><tr><td>Maja</td><td>Peamaja</td></tr><tr><td>Algus</td><td>30.04.2026 10:15</td></tr><tr><td>Lõpp</td><td>30.04.2026 17:45</td></tr><tr><td>Grupid</td><td>KHSÕ3</td></tr><tr><td>Tegevus</td><td>õppetöö</td></tr></table>
LOCATION:TÜ Viljandi Kultuuriakadeemia, Posti 1, Viljandi 71004
URL;VALUE=URI:https://tunniplaan.vka.ee/rooms/PM-128/calendar/?d=30.04.2026
SUMMARY:Draamaõppe praktikum
END:VEVENT
BEGIN:VEVENT
DTSTAMP:20251214T194045Z
DTSTART:20260430T071500Z
DTEND:20260430T104500Z
UID:E4F3439114591D60497E6542FA38CA7323E9206A
DESCRIPTION:Ruum: 204 - Õpperuum\n\n<table class='table table-sm'><tr><td>Õppejõud</td><td>Sergei Drõgin</td></tr><tr><td>Ruum</td><td>204 - Õpperuum</td></tr><tr><td>Maja</td><td>Peamaja</td></tr><tr><td>Algus</td><td>30.04.2026 10:15</td></tr><tr><td>Lõpp</td><td>30.04.2026 13:45</td></tr><tr><td>Grupid</td><td>KHSÕ3</td></tr><tr><td>Tegevus</td><td>õppetöö</td></tr></table>
LOCATION:TÜ Viljandi Kultuuriakadeemia, Posti 1, Viljandi 71004
URL;VALUE=URI:https://tunniplaan.vka.ee/rooms/PM-204/calendar/?d=30.04.2026
SUMMARY:Seikluskasvatusliku keskkonna loomine
END:VEVENT
BEGIN:VEVENT
DTSTAMP:20251214T191430Z
DTSTART:20260430T111500Z
DTEND:20260430T144500Z
UID:D8D9089AFBF92F1FC4BACD4F91676407E325363E
DESCRIPTION:Ruum: 1 - Väljaspool TÜ VKA-t\n\n<table class='table table-sm'><tr><td>Õppejõud</td><td>Sergei Drõgin</td></tr><tr><td>Asukoht</td><td>Õues</td></tr><tr><td>Algus</td><td>30.04.2026 14:15</td></tr><tr><td>Lõpp</td><td>30.04.2026 17:45</td></tr><tr><td>Grupid</td><td>KHSÕ3</td></tr><tr><td>Tegevus</td><td>õppetöö</td></tr></table>
LOCATION:
URL;VALUE=URI:https://tunniplaan.vka.ee/rooms/X-1/calendar/?d=30.04.2026
SUMMARY:Köietöö 
END:VEVENT
BEGIN:VEVENT
DTSTAMP:20260420T065811Z
DTSTART:20260514T073000Z
DTEND:20260514T150000Z
UID:2C8390C2D8E1F9C818DF322B6BA59671C260E9EC
DESCRIPTION:Ruum: 319 - Auditoorium\n\n<table class='table table-sm'><tr><td>Õppejõud</td><td>Marvi Remmik</td></tr><tr><td>Ruum</td><td>319 - Auditoorium</td></tr><tr><td>Maja</td><td>Peamaja</td></tr><tr><td>Algus</td><td>14.05.2026 10:30</td></tr><tr><td>Lõpp</td><td>14.05.2026 18:00</td></tr><tr><td>Grupid</td><td>KHSÕ3</td></tr><tr><td>Tegevus</td><td>kaitsmine</td></tr></table>
LOCATION:TÜ Viljandi Kultuuriakadeemia, Posti 1, Viljandi 71004
URL;VALUE=URI:https://tunniplaan.vka.ee/rooms/PM-319/calendar/?d=14.05.2026
SUMMARY:Seminaritöö 
END:VEVENT
BEGIN:VEVENT
DTSTAMP:20251127T142612Z
DTSTART:20260514T073000Z
DTEND:20260514T150000Z
UID:C93DAE78E7A0224AE37A7E860AFFE0590D00AF5A
DESCRIPTION:Ruum: 122 - Õpperuum\n\n<table class='table table-sm'><tr><td>Õppejõud</td><td>Marvi Remmik</td></tr><tr><td>Ruum</td><td>122 - Õpperuum</td></tr><tr><td>Maja</td><td>Peamaja</td></tr><tr><td>Algus</td><td>14.05.2026 10:30</td></tr><tr><td>Lõpp</td><td>14.05.2026 18:00</td></tr><tr><td>Grupid</td><td>KHSÕ3</td></tr><tr><td>Tegevus</td><td>kaitsmine</td></tr></table>
LOCATION:TÜ Viljandi Kultuuriakadeemia, Posti 1, Viljandi 71004
URL;VALUE=URI:https://tunniplaan.vka.ee/rooms/PM-122/calendar/?d=14.05.2026
SUMMARY:Seminaritöö 
END:VEVENT
BEGIN:VEVENT
DTSTAMP:20251127T142810Z
DTSTART:20260514T073000Z
DTEND:20260514T150000Z
UID:360BF24557DECF47F6FC7BD006943EE77B61E920
DESCRIPTION:Ruum: 214 - Auditoorium\n\n<table class='table table-sm'><tr><td>Õppejõud</td><td>Marvi Remmik</td></tr><tr><td>Ruum</td><td>214 - Auditoorium</td></tr><tr><td>Maja</td><td>Peamaja</td></tr><tr><td>Algus</td><td>14.05.2026 10:30</td></tr><tr><td>Lõpp</td><td>14.05.2026 18:00</td></tr><tr><td>Grupid</td><td>KHSÕ3</td></tr><tr><td>Tegevus</td><td>kaitsmine</td></tr></table>
LOCATION:TÜ Viljandi Kultuuriakadeemia, Posti 1, Viljandi 71004
URL;VALUE=URI:https://tunniplaan.vka.ee/rooms/PM-214/calendar/?d=14.05.2026
SUMMARY:Seminaritöö 
END:VEVENT
BEGIN:VEVENT
DTSTAMP:20251209T140410Z
DTSTART:20260515T070000Z
DTEND:20260515T150000Z
UID:55E81FD27D322D9EF29DE2987E3B9E3241A4E4EB
DESCRIPTION:Ruum: 128 - Õpperuum\n\n<table class='table table-sm'><tr><td>Õppejõud</td><td>Piret  Soosaar - Maiberg</td></tr><tr><td>Ruum</td><td>128 - Õpperuum</td></tr><tr><td>Maja</td><td>Peamaja</td></tr><tr><td>Algus</td><td>15.05.2026 10:00</td></tr><tr><td>Lõpp</td><td>15.05.2026 18:00</td></tr><tr><td>Grupid</td><td>KHSÕ3</td></tr><tr><td>Tegevus</td><td>õppetöö</td></tr></table>
LOCATION:TÜ Viljandi Kultuuriakadeemia, Posti 1, Viljandi 71004
URL;VALUE=URI:https://tunniplaan.vka.ee/rooms/PM-128/calendar/?d=15.05.2026
SUMMARY:Foorumteatri praktikum
END:VEVENT
BEGIN:VEVENT
DTSTAMP:20251209T140427Z
DTSTART:20260516T070000Z
DTEND:20260516T150000Z
UID:50E2232FCDBC34902E024AB8B401ADAD71E4129D
DESCRIPTION:Ruum: 128 - Õpperuum\n\n<table class='table table-sm'><tr><td>Õppejõud</td><td>Silvia Soro</td></tr><tr><td>Ruum</td><td>128 - Õpperuum</td></tr><tr><td>Maja</td><td>Peamaja</td></tr><tr><td>Algus</td><td>16.05.2026 10:00</td></tr><tr><td>Lõpp</td><td>16.05.2026 18:00</td></tr><tr><td>Grupid</td><td>KHSÕ3</td></tr><tr><td>Tegevus</td><td>õppetöö</td></tr></table>
LOCATION:TÜ Viljandi Kultuuriakadeemia, Posti 1, Viljandi 71004
URL;VALUE=URI:https://tunniplaan.vka.ee/rooms/PM-128/calendar/?d=16.05.2026
SUMMARY:Foorumteatri praktikum
END:VEVENT
BEGIN:VEVENT
DTSTAMP:20251214T195056Z
DTSTART:20260527T073000Z
DTEND:20260527T150000Z
UID:08A1E9794885681304DCB3D92BC91C353A2D1D5D
DESCRIPTION:Ruum: 128 - Õpperuum\n\n<table class='table table-sm'><tr><td>Õppejõud</td><td>Sergei Drõgin</td></tr><tr><td>Ruum</td><td>128 - Õpperuum</td></tr><tr><td>Maja</td><td>Peamaja</td></tr><tr><td>Algus</td><td>27.05.2026 10:30</td></tr><tr><td>Lõpp</td><td>27.05.2026 18:00</td></tr><tr><td>Grupid</td><td>KHSÕ3</td></tr><tr><td>Tegevus</td><td>õppetöö</td></tr></table>
LOCATION:TÜ Viljandi Kultuuriakadeemia, Posti 1, Viljandi 71004
URL;VALUE=URI:https://tunniplaan.vka.ee/rooms/PM-128/calendar/?d=27.05.2026
SUMMARY:Seikluskasvatusliku keskkonna loomine
END:VEVENT
BEGIN:VEVENT
DTSTAMP:20260424T124102Z
DTSTART:20260527T150000Z
DTEND:20260527T170000Z
UID:26AC70A84D45F783F6A02D32003771D1D77E9B17
DESCRIPTION:Ruum: 214 - Auditoorium\n\n<table class='table table-sm'><tr><td>Õppejõud</td><td>Sergei Drõgin</td></tr><tr><td>Ruum</td><td>214 - Auditoorium</td></tr><tr><td>Maja</td><td>Peamaja</td></tr><tr><td>Algus</td><td>27.05.2026 18:00</td></tr><tr><td>Lõpp</td><td>27.05.2026 20:00</td></tr><tr><td>Grupid</td><td>KHSÕ3</td></tr><tr><td>Tegevus</td><td>õppetöö</td></tr></table>
LOCATION:TÜ Viljandi Kultuuriakadeemia, Posti 1, Viljandi 71004
URL;VALUE=URI:https://tunniplaan.vka.ee/rooms/PM-214/calendar/?d=27.05.2026
SUMMARY:Seikluskasvatusliku keskkonna loomine
END:VEVENT
BEGIN:VEVENT
DTSTAMP:20251214T195117Z
DTSTART:20260528T060000Z
DTEND:20260528T170000Z
UID:4EB63559A6ED3897C1E0E4896DBD39C6A8CC71A9
DESCRIPTION:Ruum: 128 - Õpperuum\n\n<table class='table table-sm'><tr><td>Õppejõud</td><td>Sergei Drõgin</td></tr><tr><td>Ruum</td><td>128 - Õpperuum</td></tr><tr><td>Maja</td><td>Peamaja</td></tr><tr><td>Algus</td><td>28.05.2026 09:00</td></tr><tr><td>Lõpp</td><td>28.05.2026 20:00</td></tr><tr><td>Grupid</td><td>KHSÕ3</td></tr><tr><td>Tegevus</td><td>õppetöö</td></tr></table>
LOCATION:TÜ Viljandi Kultuuriakadeemia, Posti 1, Viljandi 71004
URL;VALUE=URI:https://tunniplaan.vka.ee/rooms/PM-128/calendar/?d=28.05.2026
SUMMARY:Seikluskasvatusliku keskkonna loomine
END:VEVENT
BEGIN:VEVENT
DTSTAMP:20251214T195135Z
DTSTART:20260529T060000Z
DTEND:20260529T130000Z
UID:40DCBEE8701C45E35EF0FF68ED79C3EB0A243AE9
DESCRIPTION:Ruum: 128 - Õpperuum\n\n<table class='table table-sm'><tr><td>Õppejõud</td><td>Sergei Drõgin</td></tr><tr><td>Ruum</td><td>128 - Õpperuum</td></tr><tr><td>Maja</td><td>Peamaja</td></tr><tr><td>Algus</td><td>29.05.2026 09:00</td></tr><tr><td>Lõpp</td><td>29.05.2026 16:00</td></tr><tr><td>Grupid</td><td>KHSÕ3</td></tr><tr><td>Tegevus</td><td>õppetöö</td></tr></table>
LOCATION:TÜ Viljandi Kultuuriakadeemia, Posti 1, Viljandi 71004
URL;VALUE=URI:https://tunniplaan.vka.ee/rooms/PM-128/calendar/?d=29.05.2026
SUMMARY:Seikluskasvatusliku keskkonna loomine
END:VEVENT
BEGIN:VEVENT
DTSTAMP:20251214T194716Z
DTSTART:20260611T073000Z
DTEND:20260611T110000Z
UID:8A1A7C294626C73CDC726EC3B8F8BC869978D644
DESCRIPTION:Ruum: 204 - Õpperuum\n\n<table class='table table-sm'><tr><td>Õppejõud</td><td>Sergei Drõgin</td></tr><tr><td>Ruum</td><td>204 - Õpperuum</td></tr><tr><td>Maja</td><td>Peamaja</td></tr><tr><td>Algus</td><td>11.06.2026 10:30</td></tr><tr><td>Lõpp</td><td>11.06.2026 14:00</td></tr><tr><td>Grupid</td><td>KHSÕ3</td></tr><tr><td>Tegevus</td><td>õppetöö</td></tr></table>
LOCATION:TÜ Viljandi Kultuuriakadeemia, Posti 1, Viljandi 71004
URL;VALUE=URI:https://tunniplaan.vka.ee/rooms/PM-204/calendar/?d=11.06.2026
SUMMARY:Seikluskasvatusliku keskkonna loomine
END:VEVENT
BEGIN:VEVENT
DTSTAMP:20251214T191523Z
DTSTART:20260611T113000Z
DTEND:20260611T150000Z
UID:8EAF7E11CEF4D5EFBAE34BC7B3DC696D65E24A5F
DESCRIPTION:Ruum: 1 - Väljaspool TÜ VKA-t\n\n<table class='table table-sm'><tr><td>Õppejõud</td><td>Sergei Drõgin</td></tr><tr><td>Asukoht</td><td>Õues</td></tr><tr><td>Algus</td><td>11.06.2026 14:30</td></tr><tr><td>Lõpp</td><td>11.06.2026 18:00</td></tr><tr><td>Grupid</td><td>KHSÕ3</td></tr><tr><td>Tegevus</td><td>õppetöö</td></tr></table>
LOCATION:
URL;VALUE=URI:https://tunniplaan.vka.ee/rooms/X-1/calendar/?d=11.06.2026
SUMMARY:Köietöö 
END:VEVENT
BEGIN:VEVENT
DTSTAMP:20251209T141747Z
DTSTART:20260612T070000Z
DTEND:20260612T150000Z
UID:BADC1E50ADAD648746EDBBF46AD2B5AE28A82B98
DESCRIPTION:Ruum: 128 - Õpperuum\n\n<table class='table table-sm'><tr><td>Õppejõud</td><td>Piret  Soosaar - Maiberg</td></tr><tr><td>Ruum</td><td>128 - Õpperuum</td></tr><tr><td>Maja</td><td>Peamaja</td></tr><tr><td>Algus</td><td>12.06.2026 10:00</td></tr><tr><td>Lõpp</td><td>12.06.2026 18:00</td></tr><tr><td>Grupid</td><td>KHSÕ3</td></tr><tr><td>Tegevus</td><td>õppetöö</td></tr></table>
LOCATION:TÜ Viljandi Kultuuriakadeemia, Posti 1, Viljandi 71004
URL;VALUE=URI:https://tunniplaan.vka.ee/rooms/PM-128/calendar/?d=12.06.2026
SUMMARY:Foorumteatri praktikum
END:VEVENT
BEGIN:VEVENT
DTSTAMP:20251212T152100Z
DTSTART:20260612T071500Z
DTEND:20260612T104500Z
UID:951B8DED8057D4C9016B398B58B3CD54D93AAAE1
DESCRIPTION:Ruum: 122 - Õpperuum\n\n<table class='table table-sm'><tr><td>Õppejõud</td><td>Sergei Drõgin</td></tr><tr><td>Ruum</td><td>122 - Õpperuum</td></tr><tr><td>Maja</td><td>Peamaja</td></tr><tr><td>Algus</td><td>12.06.2026 10:15</td></tr><tr><td>Lõpp</td><td>12.06.2026 13:45</td></tr><tr><td>Grupid</td><td>KHSÕ3</td></tr><tr><td>Tegevus</td><td>õppetöö</td></tr></table>
LOCATION:TÜ Viljandi Kultuuriakadeemia, Posti 1, Viljandi 71004
URL;VALUE=URI:https://tunniplaan.vka.ee/rooms/PM-122/calendar/?d=12.06.2026
SUMMARY:Seiklustegevuste praktika
END:VEVENT
BEGIN:VEVENT
DTSTAMP:20251212T142758Z
DTSTART:20260612T111500Z
DTEND:20260612T144500Z
UID:97CC220FB6B1D1F2389242A5F8EB218416BAE266
DESCRIPTION:Ruum: 122 - Õpperuum\n\n<table class='table table-sm'><tr><td>Õppejõud</td><td>Sergei Drõgin</td></tr><tr><td>Ruum</td><td>122 - Õpperuum</td></tr><tr><td>Maja</td><td>Peamaja</td></tr><tr><td>Algus</td><td>12.06.2026 14:15</td></tr><tr><td>Lõpp</td><td>12.06.2026 17:45</td></tr><tr><td>Grupid</td><td>KHSÕ3</td></tr><tr><td>Tegevus</td><td>õppetöö</td></tr></table>
LOCATION:TÜ Viljandi Kultuuriakadeemia, Posti 1, Viljandi 71004
URL;VALUE=URI:https://tunniplaan.vka.ee/rooms/PM-122/calendar/?d=12.06.2026
SUMMARY:Elamuspedagoogika praktika
END:VEVENT
BEGIN:VEVENT
DTSTAMP:20251209T141801Z
DTSTART:20260613T070000Z
DTEND:20260613T110000Z
UID:86470D5F5852B385B47CEA5412D87B6C51AC27B3
DESCRIPTION:Ruum: 202 - Auditoorium\n\n<table class='table table-sm'><tr><td>Õppejõud</td><td>Piret  Soosaar - Maiberg</td></tr><tr><td>Ruum</td><td>202 - Auditoorium</td></tr><tr><td>Maja</td><td>Peamaja</td></tr><tr><td>Algus</td><td>13.06.2026 10:00</td></tr><tr><td>Lõpp</td><td>13.06.2026 14:00</td></tr><tr><td>Grupid</td><td>KHSÕ3</td></tr><tr><td>Tegevus</td><td>õppetöö</td></tr></table>
LOCATION:TÜ Viljandi Kultuuriakadeemia, Posti 1, Viljandi 71004
URL;VALUE=URI:https://tunniplaan.vka.ee/rooms/PM-202/calendar/?d=13.06.2026
SUMMARY:Foorumteatri praktikum
END:VEVENT
BEGIN:VEVENT
DTSTAMP:20260306T134311Z
DTSTART:20260613T070000Z
DTEND:20260613T110000Z
UID:09813684B97B8F7931FA0AFEEBF8533A5F4C2BE7
DESCRIPTION:Ruum: 212 - Auditoorium\n\n<table class='table table-sm'><tr><td>Õppejõud</td><td>Piret  Soosaar - Maiberg</td></tr><tr><td>Ruum</td><td>212 - Auditoorium</td></tr><tr><td>Maja</td><td>Peamaja</td></tr><tr><td>Algus</td><td>13.06.2026 10:00</td></tr><tr><td>Lõpp</td><td>13.06.2026 14:00</td></tr><tr><td>Grupid</td><td>KHSÕ3</td></tr><tr><td>Tegevus</td><td>õppetöö</td></tr></table>
LOCATION:TÜ Viljandi Kultuuriakadeemia, Posti 1, Viljandi 71004
URL;VALUE=URI:https://tunniplaan.vka.ee/rooms/PM-212/calendar/?d=13.06.2026
SUMMARY:Foorumteatri praktikum
END:VEVENT
BEGIN:VEVENT
DTSTAMP:20251209T164013Z
DTSTART:20260613T113000Z
DTEND:20260613T150000Z
UID:2B0BD0D5BAA72D017BAC09CA266CB701ED468EC8
DESCRIPTION:Ruum: 202 - Auditoorium\n\n<table class='table table-sm'><tr><td>Õppejõud</td><td>Piret  Soosaar - Maiberg</td></tr><tr><td>Ruum</td><td>202 - Auditoorium</td></tr><tr><td>Maja</td><td>Peamaja</td></tr><tr><td>Algus</td><td>13.06.2026 14:30</td></tr><tr><td>Lõpp</td><td>13.06.2026 18:00</td></tr><tr><td>Grupid</td><td>KHSÕ3</td></tr><tr><td>Tegevus</td><td>õppetöö</td></tr></table>
LOCATION:TÜ Viljandi Kultuuriakadeemia, Posti 1, Viljandi 71004
URL;VALUE=URI:https://tunniplaan.vka.ee/rooms/PM-202/calendar/?d=13.06.2026
SUMMARY:Foorumteatri praktikum
END:VEVENT
BEGIN:VEVENT
DTSTAMP:20260330T073443Z
DTSTART:20260903T073000Z
DTEND:20260903T140000Z
UID:5CBFADEA35BD50F91081F80432246C71C4A05018
DESCRIPTION:Ruum: 1 - Väljaspool TÜ VKA-t\n\n<table class='table table-sm'><tr><td>Õppejõud</td><td>Kait Lukka</td></tr><tr><td>Asukoht</td><td>Pärimusmuusika Ait</td></tr><tr><td>Algus</td><td>03.09.2026 10:30</td></tr><tr><td>Lõpp</td><td>03.09.2026 17:00</td></tr><tr><td>Grupid</td><td>KK3, MUHT3, MUKM3, MUSÕ3, KHSÕ3, MUPM3, MURM3, PTTSÕ3, EKBU3, EKTP3, EKVK3, EKVIK3, PTR3</td></tr><tr><td>Tegevus</td><td></td></tr></table>
LOCATION:
URL;VALUE=URI:https://tunniplaan.vka.ee/rooms/X-1/calendar/?d=03.09.2026
SUMMARY:Loovettevõtja baaskursus
END:VEVENT
BEGIN:VEVENT
DTSTAMP:20260330T073551Z
DTSTART:20260904T073000Z
DTEND:20260904T140000Z
UID:D1D8C85E329A671B649C36E284E29B075AB59738
DESCRIPTION:Ruum: 50 - Virtuaalne ruum\n\n<table class='table table-sm'><tr><td>Õppejõud</td><td>Kait Lukka</td></tr><tr><td>Asukoht</td><td>Pärimusmuusika Ait</td></tr><tr><td>Algus</td><td>04.09.2026 10:30</td></tr><tr><td>Lõpp</td><td>04.09.2026 17:00</td></tr><tr><td>Grupid</td><td>KK3, MUHT3, MUKM3, MUSÕ3, KHSÕ3, MUPM3, MURM3, PTTSÕ3, EKBU3, EKTP3, EKVK3, EKVIK3, PTR3</td></tr><tr><td>Tegevus</td><td></td></tr></table>
LOCATION:
URL;VALUE=URI:https://tunniplaan.vka.ee/rooms/X-50/calendar/?d=04.09.2026
SUMMARY:Loovettevõtja baaskursus
END:VEVENT
END:VCALENDAR
